BEGIN:VCALENDAR
VERSION:2.0
PRODID:-//eventon.com NONSGML v1.0//EN
CALSCALE:GREGORIAN
METHOD:PUBLISH
BEGIN:VEVENT
UID:69e6367a91bc9
DTSTAMP:20260420T082146
DTSTART:20260520T150000Z
DTEND:20260520T210000Z
TZID:America/Edmonton
LOCATION:Vulcan County Administration Office\,  102 Centre Street\,  Vulcan 102 Centre Street
SUMMARY:MPC & Council Meeting
DESCRIPTION: Click here to join the meeting livestream. Agenda Link:&nbsp;click here\nhttps://www.vulcancounty.ab.ca/events/mpc-council-meeting-63/
URL:https://www.vulcancounty.ab.ca/events/mpc-council-meeting-63/
END:VEVENT
END:VCALENDAR