BEGIN:VCALENDAR
VERSION:2.0
PRODID:-//eventon.com NONSGML v1.0//EN
CALSCALE:GREGORIAN
METHOD:PUBLISH
BEGIN:VEVENT
UID:69e746da9883e
DTSTAMP:20260421T034354
DTSTART:20250716T163000Z
DTEND:20250717T055900Z
TZID:America/Edmonton
LOCATION:Vulcan County Administration Office\,  102 Centre Street\,  Vulcan 102 Centre Street
SUMMARY:Public Hearing No. 2025-027
DESCRIPTION: Click here to view the Public Hearing.\nhttps://www.vulcancounty.ab.ca/events/public-hearing-no-2025-027/
URL:https://www.vulcancounty.ab.ca/events/public-hearing-no-2025-027/
END:VEVENT
END:VCALENDAR