BEGIN:VCALENDAR
VERSION:2.0
PRODID:-//eventon.com NONSGML v1.0//EN
CALSCALE:GREGORIAN
METHOD:PUBLISH
BEGIN:VEVENT
UID:69eba78d085ee
DTSTAMP:20260424T112533
DTSTART:20241229T014000Z
DTEND:20241229T014000Z
TZID:America/Edmonton
LOCATION:
SUMMARY:Offices Closed
DESCRIPTION: \nhttps://www.vulcancounty.ab.ca/events/offices-closed-22/
URL:https://www.vulcancounty.ab.ca/events/offices-closed-22/
END:VEVENT
END:VCALENDAR